BEGIN:VCALENDAR
VERSION:2.0
METHOD:PUBLISH
PRODID:-//Telerik Inc.//Sitefinity CMS 14.4//EN
BEGIN:VTIMEZONE
TZID:Romance Standard Time
BEGIN:STANDARD
DTSTART:20251002T030000
RRULE:FREQ=YEARLY;BYDAY=-1SU;BYHOUR=3;BYMINUTE=0;BYMONTH=10
TZNAME:Romance Standard Time
TZOFFSETFROM:+0200
TZOFFSETTO:+0100
END:STANDARD
BEGIN:DAYLIGHT
DTSTART:20250301T020000
RRULE:FREQ=YEARLY;BYDAY=-1SU;BYHOUR=2;BYMINUTE=0;BYMONTH=3
TZNAME:Romance Daylight Time
TZOFFSETFROM:+0100
TZOFFSETTO:+0200
END:DAYLIGHT
END:VTIMEZONE
BEGIN:VEVENT
DESCRIPTION:Migratie blijft &eacute\;&eacute\;n van de meest besproken them
 a&rsquo\;s van vandaag. Is het een krachtige motor voor onze economie\, of
  brengt het juist nieuwe uitdagingen met zich mee? Tijdens deze debatavond
  brengen we verschillende perspectieven samen en gaan we in gesprek over f
 eiten\, cijfers en ervaringen uit de praktijk.Met keynote spreker Pierre W
 unsch (Gouverneur Nationale Bank) en gastsprekers Johann Leten (VOKA Limbu
 rg)\, Mustafa Harraq (Schepen Werk\, Sociale Economie en Wonen bij Stad Ge
 nk) &amp\; Dries Lens (Gastprofessor UAntwerpen &ndash\; specialist migrat
 ie en economie). Micha&euml\;l Van Droogenbroeck (Journalist VRT) zal het 
 gesprek in goede banen leiden.&nbsp\;Praktische informatie:Datum: maandag 
 27 april 2026De deuren openen om 19u00 en om 19u30 stipt zal het inhoudeli
 jke programma van start gaanDe debatavond vindt plaats in PXL-NeXT (Elfde-
 Liniestraat 23a\, 3500 Hasselt)\, meer specifiek in Zaal PacioliNa het deb
 at ben je welkom op de receptie. Het belooft een inspirerende &amp\; inter
 essante avond te worden\, mis deze kans niet en schrijf je nu in via de bl
 auwe balk onderaan deze pagina!
DTEND:20260427T200000Z
DTSTAMP:20260421T114246Z
DTSTART:20260427T170000Z
LOCATION:3500 Hasselt\,Elfde-Liniestraat 23a
SEQUENCE:0
SUMMARY:De zin of onzin van migratie voor onze economie
UID:RFCALITEM639123757662435894
X-ALT-DESC;FMTTYPE=text/html:<div>Migratie blijft &eacute\;&eacute\;n van d
 e meest besproken thema&rsquo\;s van vandaag. Is het een krachtige motor v
 oor onze economie\, of brengt het juist nieuwe uitdagingen met zich mee? T
 ijdens deze debatavond brengen we verschillende perspectieven samen en gaa
 n we in gesprek over feiten\, cijfers en ervaringen uit de praktijk.</div>
 <div><br /></div><div>Met keynote spreker <strong>Pierre Wunsch</strong> (
 Gouverneur Nationale Bank) en gastsprekers <strong>Johann Leten</strong> (
 VOKA Limburg)\, <strong>Mustafa Harraq</strong> (Schepen Werk\, Sociale Ec
 onomie en Wonen bij Stad Genk) &amp\; <strong>Dries Lens</strong> (Gastpro
 fessor UAntwerpen &ndash\; specialist migratie en economie). <strong>Micha
 &euml\;l Van Droogenbroeck</strong> (Journalist VRT) zal het gesprek in go
 ede banen leiden.</div><div><p>&nbsp\;</p><p>Praktische informatie:</p></d
 iv><div><ul><li>Datum: <strong>maandag 27 april 2026</strong></li><li>De d
 euren openen om 19u00 en om 19u30 stipt zal het inhoudelijke programma van
  start gaan</li><li>De debatavond vindt plaats in<strong> PXL-NeXT</strong
 > (Elfde-Liniestraat 23a\, 3500 Hasselt)\, meer specifiek in <strong>Zaal 
 Pacioli</strong></li></ul><p>Na het debat ben je welkom op de receptie. He
 t belooft een inspirerende &amp\; interessante avond te worden\, mis deze 
 kans niet en schrijf je nu in via de blauwe balk onderaan deze pagina!</p>
 </div>
END:VEVENT
END:VCALENDAR
