BEGIN:VCALENDAR
VERSION:2.0
METHOD:PUBLISH
PRODID:-//Telerik Inc.//Sitefinity CMS 14.4//EN
BEGIN:VTIMEZONE
TZID:Romance Standard Time
BEGIN:STANDARD
DTSTART:20251002T030000
RRULE:FREQ=YEARLY;BYDAY=-1SU;BYHOUR=3;BYMINUTE=0;BYMONTH=10
TZNAME:Romance Standard Time
TZOFFSETFROM:+0200
TZOFFSETTO:+0100
END:STANDARD
BEGIN:DAYLIGHT
DTSTART:20250301T020000
RRULE:FREQ=YEARLY;BYDAY=-1SU;BYHOUR=2;BYMINUTE=0;BYMONTH=3
TZNAME:Romance Daylight Time
TZOFFSETFROM:+0100
TZOFFSETTO:+0200
END:DAYLIGHT
END:VTIMEZONE
BEGIN:VEVENT
DESCRIPTION:De Arizona-regering besliste in het regeerakkoord om extra in t
 e zetten op het verminderen van het aantal langdurige zieken\, dat intusse
 n oploopt tot meer dan 500.000 in Belgi&euml\;. Onder andere door meer foc
 us op preventie en het voorkomen van langdurige ziekte door snelle inschat
 ting van het arbeidspotentieel en het aanmoedigen tot re-integratie van we
 rknemer &eacute\;n werkgever.Ben je in ziekte en nog onder contract bij je
  huidige werkgever? Dan is deze infosessie iets voor jou. We overlopen de 
 wijzigingen in de wetgeving op vlak van re-integratie op de werkvloer en b
 ij het ontslag medische overmacht.Wanneer? Dinsdag 21 april - start om 19.
 30 uurWaar? zaal De Kring\, Kerkstraat 56 in ZelzateOm praktische redenen 
 vragen we om&nbsp\;online in te schrijven.
DTEND:20260421T190000Z
DTSTAMP:20260421T113159Z
DTSTART:20260421T173000Z
LOCATION:Zelzate\,Kerkstraat 56
SEQUENCE:0
SUMMARY:Info re-integratie
UID:RFCALITEM639123751190529352
X-ALT-DESC;FMTTYPE=text/html:De Arizona-regering besliste in het regeerakko
 ord om extra in te zetten op het verminderen van het aantal langdurige zie
 ken\, dat intussen oploopt tot meer dan 500.000 in Belgi&euml\;. Onder and
 ere door meer focus op preventie en het voorkomen van langdurige ziekte do
 or snelle inschatting van het arbeidspotentieel en het aanmoedigen tot re-
 integratie van werknemer &eacute\;n werkgever.<br /><br />Ben je in ziekte
  en nog onder contract bij je huidige werkgever? Dan is deze infosessie ie
 ts voor jou. We overlopen de wijzigingen in de wetgeving op vlak van re-in
 tegratie op de werkvloer en bij het ontslag medische overmacht.<br /><br /
 >Wanneer? Dinsdag 21 april - start om 19.30 uur<br />Waar? zaal De Kring\,
  Kerkstraat 56 in Zelzate<br /><br />Om praktische redenen vragen we om&nb
 sp\;<a href="https://www.hetacv.be/formulier?form=f678dc37-cc75-4135-9421-
 82caa83c87e9" target="_blank">online in te schrijven</a>.
END:VEVENT
END:VCALENDAR
