BEGIN:VCALENDAR
VERSION:2.0
METHOD:PUBLISH
PRODID:-//Telerik Inc.//Sitefinity CMS 14.4//EN
BEGIN:VTIMEZONE
TZID:Romance Standard Time
BEGIN:STANDARD
DTSTART:20251002T030000
RRULE:FREQ=YEARLY;BYDAY=-1SU;BYHOUR=3;BYMINUTE=0;BYMONTH=10
TZNAME:Romance Standard Time
TZOFFSETFROM:+0200
TZOFFSETTO:+0100
END:STANDARD
BEGIN:DAYLIGHT
DTSTART:20250301T020000
RRULE:FREQ=YEARLY;BYDAY=-1SU;BYHOUR=2;BYMINUTE=0;BYMONTH=3
TZNAME:Romance Daylight Time
TZOFFSETFROM:+0100
TZOFFSETTO:+0200
END:DAYLIGHT
END:VTIMEZONE
BEGIN:VEVENT
DESCRIPTION:The Old Oak is de laatste film van tweevoudig Gouden Palmwinnaa
 r Ken Loach en de laatste in een trilogie over de desastreuze gevolgen van
  de falende Britse politiek in Noord-Engeland na 'I\, Daniel Blake' en 'So
 rry we missed you'. De Britse filmmaker levert opnieuw een sterk sociaal d
 rama af dat zich afspeelt in de arbeidersklasse van het hedendaagse Engela
 nd. Oprecht\, hoopvol en actueel.Het verhaal: In een voormalige mijnwerker
 sstad staat The Old Oak\, de laatste kroeg van het inmiddels vervallen pla
 atsje in Noord-Engeland. De lokale bevolking kan zelf amper het hoofd bove
 n water houden en ziet hun woonplaats steeds verder leeglopen. Kroegbaas T
 J hoort zijn mopperende\, vaste klanten zwijgzaam aan. Als dan de pub ook 
 nog eens met sluiting wordt bedreigd\, zorgt de huisvesting van Syrische v
 luchtelingen in het stadje voor extra onrust. Maar een onwaarschijnlijke v
 riendschap brengt de verschillende werelden voorzichtig tot elkaar\, met T
 he Old Oak als gezamenlijk middelpunt. In The Old Oak gloort er hoop in he
 t besef dat we het toch samen moeten doen.Bekijk hier de trailer.Vooraf is
  er een korte introductie op de film.&nbsp\;Na de film kan je napraten bij
  een gratis drankje.Dinsdag 21 april om 20 uur (deuren: 19.30 uur)CC De St
 eenoven\, Kerkkouter 40\, HerzeleIk schrijf me in.
DTEND:20260421T200000Z
DTSTAMP:20260421T131325Z
DTSTART:20260421T180000Z
LOCATION:Herzele\,CC De Steenoven\, Kerkkouter 40
SEQUENCE:0
SUMMARY:Film: 'The Old Oak'
UID:RFCALITEM639123812050840801
X-ALT-DESC;FMTTYPE=text/html:<div><span style="background-color:transparent
 \;font-family:inherit\;font-size:inherit\;text-align:inherit\;text-transfo
 rm:inherit\;word-spacing:normal\;caret-color:auto\;white-space:inherit\;">
 The Old Oak is de laatste film van tweevoudig Gouden Palmwinnaar Ken Loach
  en de laatste in een trilogie over de desastreuze gevolgen van de falende
  Britse politiek in Noord-Engeland na 'I\, Daniel Blake' en 'Sorry we miss
 ed you'. <br />De Britse filmmaker levert opnieuw een sterk sociaal drama 
 af dat zich afspeelt in de arbeidersklasse van het hedendaagse Engeland. O
 precht\, hoopvol en actueel.</span><br /></div><div><span style="backgroun
 d-color:initial\;font-family:inherit\;font-size:inherit\;text-align:inheri
 t\;text-transform:inherit\;word-spacing:normal\;caret-color:auto\;white-sp
 ace:inherit\;"><br />Het verhaal: In een voormalige mijnwerkersstad staat 
 The Old Oak\, de laatste kroeg van het inmiddels vervallen plaatsje in Noo
 rd-Engeland. De lokale bevolking kan zelf amper het hoofd boven water houd
 en en ziet hun woonplaats steeds verder leeglopen. Kroegbaas TJ hoort zijn
  mopperende\, vaste klanten zwijgzaam aan. Als dan de pub ook nog eens met
  sluiting wordt bedreigd\, zorgt de huisvesting van Syrische vluchtelingen
  in het stadje voor extra onrust. Maar een onwaarschijnlijke vriendschap b
 rengt de verschillende werelden voorzichtig tot elkaar\, met The Old Oak a
 ls gezamenlijk middelpunt. In The Old Oak gloort er hoop in het besef dat 
 we het toch samen moeten doen.</span><br /></div><br /><a href="https://ww
 w.youtube.com/watch?v=oBNFLmVkgec" target="_blank">Bekijk hier de trailer.
 </a><br /><div><br />Vooraf is er een korte introductie op de film.&nbsp\;
 <span style="background-color:initial\;font-family:inherit\;font-size:inhe
 rit\;text-align:inherit\;text-transform:inherit\;word-spacing:normal\;care
 t-color:auto\;white-space:inherit\;">Na de film kan je napraten bij een gr
 atis drankje.</span></div><br />Dinsdag 21 april om 20 uur (deuren: 19.30 
 uur)<br /><div><span style="background-color:transparent\;font-family:inhe
 rit\;font-size:inherit\;text-align:inherit\;text-transform:inherit\;word-s
 pacing:normal\;caret-color:auto\;white-space:inherit\;">CC De Steenoven\, 
 Kerkkouter 40\, Herzele</span><div><br /></div><span style="background-col
 or:transparent\;font-family:inherit\;font-size:inherit\;text-align:inherit
 \;text-transform:inherit\;word-spacing:normal\;caret-color:auto\;white-spa
 ce:inherit\;"><a href="https://www.hetacv.be/formulier?form=2a6516f9-ab9f-
 4202-8c07-cc4565889998" target="_blank">Ik schrijf me in.</a></span></div>
END:VEVENT
END:VCALENDAR
