BEGIN:VCALENDAR
VERSION:2.0
METHOD:PUBLISH
PRODID:-//Telerik Inc.//Sitefinity CMS 14.4//EN
BEGIN:VTIMEZONE
TZID:Romance Standard Time
BEGIN:STANDARD
DTSTART:20251002T030000
RRULE:FREQ=YEARLY;BYDAY=-1SU;BYHOUR=3;BYMINUTE=0;BYMONTH=10
TZNAME:Romance Standard Time
TZOFFSETFROM:+0200
TZOFFSETTO:+0100
END:STANDARD
BEGIN:DAYLIGHT
DTSTART:20250301T020000
RRULE:FREQ=YEARLY;BYDAY=-1SU;BYHOUR=2;BYMINUTE=0;BYMONTH=3
TZNAME:Romance Daylight Time
TZOFFSETFROM:+0100
TZOFFSETTO:+0200
END:DAYLIGHT
END:VTIMEZONE
BEGIN:VEVENT
DESCRIPTION:Merk je dat stress stilaan te veel wordt en je energie afneemt?
 Je bent niet alleen &mdash\; stress wordt vaak de ziekte van de eeuw genoe
 md.Op maandag 27 april&nbsp\;organiseren we een infosessie over wat stress
  nu precies is en&nbsp\;hoe je er op een gezonde manier mee kan omgaan.Str
 ess ontstaat niet alleen in jezelf\, maar ook door wat er rondom je gebeur
 t: werk\,&nbsp\;gezin en maatschappij.We staan stil bij stresssignalen en 
 geven je concrete tips en praktische handvatten&nbsp\;om je veerkracht te 
 versterken en bewuster om te gaan met de uitdagingen van het&nbsp\;dagelij
 kse leven.Tijdens deze sessie combineren we inzichten\, eenvoudige oefenin
 gen en&nbsp\;uitwisseling met mensen die herkennen wat jij doormaakt.Deze 
 infosessie is volledig gratis voor ACV-leden.&nbsp\;ACV Gent\, Poel 7Maand
 ag 27 april 2026 - van&nbsp\;19 uur tot 21 uurInschrijven/vragen bij Sara 
 Depoorter.
DTEND:20260427T190000Z
DTSTAMP:20260421T131500Z
DTSTART:20260427T170000Z
LOCATION:Gent\,Poel 7
SEQUENCE:0
SUMMARY:Minder stress\, meer energie!
UID:RFCALITEM639123813005388472
X-ALT-DESC;FMTTYPE=text/html:<div><strong>Merk je dat stress stilaan te vee
 l wordt en je energie afneemt?<br /></strong></div><div>Je bent niet allee
 n &mdash\; stress wordt vaak de ziekte van de eeuw genoemd.</div><div><br 
 />Op <strong>maandag 27 april</strong>&nbsp\;organiseren we een <strong>in
 fosessie </strong>over wat stress nu precies is en&nbsp\;<span style="back
 ground-color:initial\;font-family:inherit\;font-size:inherit\;text-align:i
 nherit\;text-transform:inherit\;word-spacing:normal\;caret-color:auto\;whi
 te-space:inherit\;">hoe je er op een gezonde manier mee kan omgaan.</span>
 </div><div>Stress ontstaat niet alleen in jezelf\, maar ook door wat er ro
 ndom je gebeurt: werk\,&nbsp\;<span style="background-color:initial\;font-
 family:inherit\;font-size:inherit\;text-align:inherit\;text-transform:inhe
 rit\;word-spacing:normal\;caret-color:auto\;white-space:inherit\;">gezin e
 n maatschappij.</span></div><div><br />We staan stil bij <strong>stresssig
 nalen </strong>en geven je concrete tips en praktische handvatten&nbsp\;<s
 pan style="background-color:initial\;font-family:inherit\;font-size:inheri
 t\;text-align:inherit\;text-transform:inherit\;word-spacing:normal\;caret-
 color:auto\;white-space:inherit\;">om je <strong>veerkracht te versterken<
 /strong> en bewuster om te gaan met de uitdagingen van het&nbsp\;</span><s
 pan style="background-color:initial\;font-family:inherit\;font-size:inheri
 t\;text-align:inherit\;text-transform:inherit\;word-spacing:normal\;caret-
 color:auto\;white-space:inherit\;">dagelijkse leven.<br /></span></div><di
 v>Tijdens deze sessie combineren we <strong>inzichten</strong>\, eenvoudig
 e <strong>oefeningen </strong>en&nbsp\;<span style="background-color:initi
 al\;font-family:inherit\;font-size:inherit\;text-align:inherit\;text-trans
 form:inherit\;word-spacing:normal\;caret-color:auto\;white-space:inherit\;
 "><strong>uitwisseling </strong>met mensen die herkennen wat jij doormaakt
 .</span></div><div><br /><strong>Deze infosessie is volledig gratis voor A
 CV-leden.</strong></div><div><br /><span style="background-color:initial\;
 font-family:inherit\;font-size:inherit\;text-align:inherit\;text-transform
 :inherit\;word-spacing:normal\;caret-color:auto\;white-space:inherit\;">&n
 bsp\;ACV Gent\, Poel 7</span></div><div>Maandag 27 april 2026 - van&nbsp\;
 <span style="background-color:initial\;font-family:inherit\;font-size:inhe
 rit\;text-align:inherit\;text-transform:inherit\;word-spacing:normal\;care
 t-color:auto\;white-space:inherit\;">19 uur tot 21 uur</span></div><div><b
 r />Inschrijven/vragen bij <a target="_blank" href="mailto:sara.depoorter@
 acv-csc.be">Sara Depoorter</a>.<span style="background-color:initial\;font
 -family:inherit\;font-size:inherit\;text-align:inherit\;text-transform:inh
 erit\;word-spacing:normal\;caret-color:auto\;white-space:inherit\;"></span
 ></div>
END:VEVENT
END:VCALENDAR
