BEGIN:VCALENDAR
VERSION:2.0
METHOD:PUBLISH
PRODID:-//Telerik Inc.//Sitefinity CMS 14.4//EN
BEGIN:VEVENT
DESCRIPTION:Dit gratis groepstraject voor ACV leden is bedoeld voor mensen 
 die na ziekte of uitval opnieuw vooruit willen. Je staat stil bij je huidi
 ge situatie en bepaalt een haalbare richting naar werk.Thema&rsquo\;s zoal
 s energie\, grenzen en tempo komen uitgebreid aan bod. Je leert communicer
 en over ziekte en herstel\, en ook solliciteren na een onderbreking krijgt
  de nodige aandacht.Dit traject gaat door in het ACV kantoor van Torhout\,
  telkens op dinsdagvoormiddag 21/04\, 28/04\, 05/05\, 19/05 en 26/05.Start
  om 9 uur.&nbsp\;Dit infomoment is volzet.&nbsp\;
DTEND;VALUE=DATE:20260527
DTSTAMP:20260421T113550Z
DTSTART;VALUE=DATE:20260421
LOCATION:Torhout\,Bruggestraat 130
SEQUENCE:0
SUMMARY:Route reset - groepstraject (VOLZET)
UID:RFCALITEM639123753507317027
X-ALT-DESC;FMTTYPE=text/html:<div><p>Dit gratis groepstraject voor ACV lede
 n is bedoeld voor mensen die na ziekte of uitval opnieuw vooruit willen. J
 e staat stil bij je huidige situatie en bepaalt een haalbare richting naar
  werk.</p><p><span style="background-color:initial\;font-family:inherit\;f
 ont-size:inherit\;text-align:inherit\;text-transform:inherit\;word-spacing
 :normal\;caret-color:auto\;white-space:inherit\;">Thema&rsquo\;s zoals ene
 rgie\, grenzen en tempo komen uitgebreid aan bod. Je leert communiceren ov
 er ziekte en herstel\, en ook solliciteren na een onderbreking krijgt de n
 odige aandacht.</span></p><p><span style="background-color:initial\;font-f
 amily:inherit\;font-size:inherit\;text-align:inherit\;text-transform:inher
 it\;word-spacing:normal\;caret-color:auto\;white-space:inherit\;">Dit traj
 ect gaat door in het ACV kantoor van Torhout\, telkens op dinsdagvoormidda
 g 21/04\, 28/04\, 05/05\, 19/05 en 26/05.</span></p><p><span style="backgr
 ound-color:initial\;font-family:inherit\;font-size:inherit\;text-align:inh
 erit\;text-transform:inherit\;word-spacing:normal\;caret-color:auto\;white
 -space:inherit\;">Start om 9 uur.&nbsp\;</span></p></div><div>Dit infomome
 nt is <strong>volzet</strong>.&nbsp\;</div>
END:VEVENT
END:VCALENDAR
