BEGIN:VCALENDAR
VERSION:2.0
METHOD:PUBLISH
PRODID:-//Telerik Inc.//Sitefinity CMS 14.4//EN
BEGIN:VTIMEZONE
TZID:Romance Standard Time
BEGIN:STANDARD
DTSTART:20251002T030000
RRULE:FREQ=YEARLY;BYDAY=-1SU;BYHOUR=3;BYMINUTE=0;BYMONTH=10
TZNAME:Romance Standard Time
TZOFFSETFROM:+0200
TZOFFSETTO:+0100
END:STANDARD
BEGIN:DAYLIGHT
DTSTART:20250301T020000
RRULE:FREQ=YEARLY;BYDAY=-1SU;BYHOUR=2;BYMINUTE=0;BYMONTH=3
TZNAME:Romance Daylight Time
TZOFFSETFROM:+0100
TZOFFSETTO:+0200
END:DAYLIGHT
END:VTIMEZONE
BEGIN:VEVENT
DESCRIPTION:De Arizona-regering besliste in het regeerakkoord om extra in t
 e zetten op het verminderen van het aantal langdurige zieken\, dat intusse
 n oploopt tot meer dan 500.000 in Belgi&euml\;. Onder andere door meer foc
 us op preventie en het voorkomen van langdurige ziekte door snelle inschat
 ting van het arbeidspotentieel en het aanmoedigen tot re-integratie van we
 rknemer &eacute\;n werkgever.&nbsp\;&nbsp\;Ben je in ziekte en nog onder c
 ontract bij je huidige werkgever in de priv&eacute\;-sector? Dan is deze i
 nfosessie iets voor jou. We overlopen de wijzigingen in de wetgeving op vl
 ak van re-integratie op de werkvloer en bij het ontslag medische overmacht
 .&nbsp\;&nbsp\;Wanneer en waar?&nbsp\;VOLZET - Maandag 27 april om 14u in 
 het ACV gebouw van Kortrijk (President Kennedypark 16D) Door de grote bela
 ngstelling is deze infosessie reeds volzet\,&nbsp\;schrijf je via deze lin
 k in op de wachtlijst. Wie op deze lijst staat\, wordt als eerste uitgenod
 igd zodra we later dit jaar een extra sessie in dezelfde regio organiseren
 .
DTEND:20260427T140000Z
DTSTAMP:20260421T114940Z
DTSTART:20260427T120000Z
LOCATION:Kortrijk\,President Kennedypark 16d
SEQUENCE:0
SUMMARY:Infosessies re-integratie op de werkvloer in Kortrijk (VOLZET)
UID:RFCALITEM639123761809261354
X-ALT-DESC;FMTTYPE=text/html:<div>De Arizona-regering besliste in het regee
 rakkoord om extra in te zetten op het verminderen van het aantal langdurig
 e zieken\, dat intussen oploopt tot meer dan 500.000 in Belgi&euml\;. Onde
 r andere door meer focus op preventie en het voorkomen van langdurige ziek
 te door snelle inschatting van het arbeidspotentieel en het aanmoedigen to
 t re-integratie van werknemer &eacute\;n werkgever.&nbsp\;</div><div>&nbsp
 \;</div><div>Ben je in ziekte en nog onder contract bij je huidige werkgev
 er in de priv&eacute\;-sector? Dan is deze infosessie iets voor jou. We ov
 erlopen de wijzigingen in de wetgeving op vlak van re-integratie op de wer
 kvloer en bij het ontslag medische overmacht.&nbsp\;</div><div>&nbsp\;</di
 v><h3>Wanneer en waar?&nbsp\;</h3><div><span style="background-color:initi
 al\;font-family:inherit\;font-size:inherit\;text-align:inherit\;text-trans
 form:inherit\;word-spacing:normal\;caret-color:auto\;white-space:inherit\;
 "><strong>VOLZET</strong> - Maandag 27 april om 14u in het ACV gebouw van 
 Kortrijk (President Kennedypark 16D) </span></div><div></div><div><br /></
 div><div><a href="https://www.hetacv.be/formulier?form=34937"></a><em>Door
  de grote belangstelling is deze infosessie reeds volzet\,&nbsp\;</em><em>
 <a href="https://www.hetacv.be/formulier?form=35031">schrijf je via deze l
 ink in op de wachtlijst</a></em><em>. Wie op deze lijst staat\, wordt als 
 eerste uitgenodigd zodra we later dit jaar een extra sessie in dezelfde re
 gio organiseren.</em></div>
END:VEVENT
END:VCALENDAR
