BEGIN:VCALENDAR
VERSION:2.0
METHOD:PUBLISH
PRODID:-//Telerik Inc.//Sitefinity CMS 14.4//EN
BEGIN:VTIMEZONE
TZID:Romance Standard Time
BEGIN:STANDARD
DTSTART:20251002T030000
RRULE:FREQ=YEARLY;BYDAY=-1SU;BYHOUR=3;BYMINUTE=0;BYMONTH=10
TZNAME:Romance Standard Time
TZOFFSETFROM:+0200
TZOFFSETTO:+0100
END:STANDARD
BEGIN:DAYLIGHT
DTSTART:20250301T020000
RRULE:FREQ=YEARLY;BYDAY=-1SU;BYHOUR=2;BYMINUTE=0;BYMONTH=3
TZNAME:Romance Daylight Time
TZOFFSETFROM:+0100
TZOFFSETTO:+0200
END:DAYLIGHT
END:VTIMEZONE
BEGIN:VEVENT
DESCRIPTION:De huidige regering wijzigt de pensioenregels. Op dit moment bu
 igt het parlement zich over de teksten\, dus er is nog kans op bijsturing\
 , maar gezien het akkoord binnen de regering is die kans klein.&nbsp\;Zeke
 r voor wie niet altijd voltijds werkte\, kan dit slecht nieuws betekenen: 
 langer werken en/of een lager pensioen. Via MyPension kan je de impact op 
 dit moment nog niet zien. En binnenkort verdwijnt de informatie ook tijdel
 ijk (maar voor langere tijd) uit MyPension om de berekening aan te passen 
 aan de nieuwe wetgeving. Daarom zet het ACV in samenwerking met Okra graag
  even voor jou op een rij wat er zou wijzigen en hoe de pensioenwetgeving 
 &ndash\; in grote lijnen &ndash\; werkt:Wat is de wettelijke pensioenleeft
 ijd en wat bepaalt je vroegste pensioendatum als je vroeger wil gaan?Hoe w
 ordt je pensioenbedrag berekend? En wat mag je nadien nog bijverdienen?Wat
  veranderen de nieuwe regels precies? Wat met die pensioenmalus?Op deze en
  andere vragen gaan we tijdens deze sessies in.Zie verder voor praktische 
 informatie.Tip: denk je dat je ook onder de nieuwe regels in 2027 of 2028 
 op pensioen zou kunnen gaan\, sla dan &ndash\; nu de informatie er nog sta
 at &ndash\; het detail van je loopbaanjaren uit MyPension op. Aan de hand 
 daarvan zal je met de nieuwe regels al wat wijzer worden inzake je pensioe
 ndatum. Een korte handleiding vind je&nbsp\;via deze link.&nbsp\;PRAKTISCH
 Alle infoavonden starten om 19.30 uurData en locaties:ALLE INFOSESSIES ZIJ
 N VOLZET\,&nbsp\;Door de grote belangstelling zijn alle infosessies reeds 
 volzet\, schrijf je via&nbsp\;deze link in op de wachtlijst. Wie op deze l
 ijst staat\, wordt als eerste uitgenodigd zodra we later dit jaar een extr
 a sessie in dezelfde regio organiseren.&nbsp\;&nbsp\;Of schrijf je in op e
 en andere locatie.&nbsp\;29/04 &ndash\; Theaterzaal Fresn&eacute\;re\,&nbs
 p\;Jabbeke&nbsp\;(Hof van Straeten 2)22/04 &ndash\; CC De Steiger\,&nbsp\;
 Menen&nbsp\;(Waalvest 1)27/04 &ndash\; zaal Komedie van CC De Spil\,&nbsp\
 ;Roeselare&nbsp\;(Hippoliet Spilleboutdreef 1)&nbsp\;&nbsp\;De infosessies
  zijn voorbehouden voor leden van ACV en/of OkraDe info richt zich op pens
 ioenen voor werknemers in de priv&eacute\;sector.Individuele vragen kunnen
  de avond zelf niet beantwoord worden\, je zal wel je vraag kunnen registr
 eren waarna iemand je achteraf zal contacteren.De toegang is gratisIngeval
  een infoavond volzet zou zijn\, kan je je inschrijven op een wachtlijst e
 n nodigen we je als eerste uit voor een volgende infoavond later dit jaar.
DTEND:20260422T193000Z
DTSTAMP:20260421T132132Z
DTSTART:20260422T173000Z
LOCATION:Menen\,Waalvest 1
SEQUENCE:0
SUMMARY:Pensioen in de privésector * Menen (VOLZET)
UID:RFCALITEM639123816928275327
X-ALT-DESC;FMTTYPE=text/html:<div><p>De huidige regering wijzigt de pensioe
 nregels. Op dit moment buigt het parlement zich over de teksten\, dus er i
 s nog kans op bijsturing\, maar gezien het akkoord binnen de regering is d
 ie kans klein.&nbsp\;<span>Zeker voor wie niet altijd voltijds werkte\, ka
 n dit slecht nieuws betekenen: langer werken en/of een lager pensioen. Via
  MyPension kan je de impact op dit moment nog niet zien. En binnenkort ver
 dwijnt de informatie ook tijdelijk (maar voor langere tijd) uit MyPension 
 om de berekening aan te passen aan de nieuwe wetgeving. Daarom zet het ACV
  in samenwerking met Okra graag even voor jou op een rij wat er zou wijzig
 en en hoe de pensioenwetgeving &ndash\; in grote lijnen &ndash\; werkt:</s
 pan></p><ul><li><span>Wat is de wettelijke pensioenleeftijd en wat bepaalt
  je vroegste pensioendatum als je vroeger wil gaan?</span></li><li><span>H
 oe wordt je pensioenbedrag berekend? En wat mag je nadien nog bijverdienen
 ?</span></li><li><span>Wat veranderen de nieuwe regels precies? Wat met di
 e pensioenmalus?</span></li></ul><p><span></span>Op deze en andere vragen 
 gaan we tijdens deze sessies in.<br /><span>Zie verder voor praktische inf
 ormatie.</span></p><p><span></span><span>Tip: denk je dat je ook onder de 
 nieuwe regels in 2027 of 2028 op pensioen zou kunnen gaan\, sla dan &ndash
 \; nu de informatie er nog staat &ndash\; het detail van je loopbaanjaren 
 uit MyPension op. Aan de hand daarvan zal je met de nieuwe regels al wat w
 ijzer worden inzake je pensioendatum. Een korte handleiding vind je&nbsp\;
 <a href="https://www.hetacv.be/docs/default-source/acv-csc-docsitemap/7000
 -verbonden-federations/7200-acv-west-vlaanderen/loopbaanjaren-uit-mypensio
 n.pdf?sfvrsn=51bfb940_3&amp\;utm_source=20260318+Infoavonden+pensioenen&am
 p\;utm_medium=EMAIL&amp\;utm_campaign=20260318+Infoavonden+pensioenen&amp\
 ;utm_content=&amp\;utm_term=">via deze link</a>.<br />&nbsp\;</span></p><h
 3><span>PRAKTISCH</span></h3></div><ul><li>Alle infoavonden starten om 19.
 30 uur</li><li><span>Data en locaties:<br /></span><strong>ALLE INFOSESSIE
 S ZIJN VOLZET\,&nbsp\;</strong><em>Door de grote belangstelling zijn alle 
 infosessies reeds volzet\, schrijf je via&nbsp\;<a href="https://www.hetac
 v.be/formulier?form=34969">deze link in op de wachtlijst</a>. Wie op deze 
 lijst staat\, wordt als eerste uitgenodigd zodra we later dit jaar een ext
 ra sessie in dezelfde regio organiseren.&nbsp\;</em><span>&nbsp\;Of schrij
 f je in op een andere locatie.</span><strong>&nbsp\;</strong><span></span>
 <ul><li>29/04 &ndash\; Theaterzaal Fresn&eacute\;re\,&nbsp\;<strong>Jabbek
 e&nbsp\;</strong>(Hof van Straeten 2)<br /></li><li>22/04 &ndash\; CC De S
 teiger\,&nbsp\;<strong style="background-color:transparent\;color:inherit\
 ;text-align:inherit\;text-transform:inherit\;word-spacing:normal\;caret-co
 lor:auto\;white-space:inherit\;font-size:inherit\;">Menen&nbsp\;</strong><
 span style="background-color:transparent\;color:inherit\;font-family:inher
 it\;text-align:inherit\;text-transform:inherit\;word-spacing:normal\;caret
 -color:auto\;white-space:inherit\;font-size:inherit\;">(Waalvest 1)</span>
 </li><li><span style="background-color:transparent\;color:inherit\;font-fa
 mily:inherit\;text-align:inherit\;text-transform:inherit\;word-spacing:nor
 mal\;caret-color:auto\;white-space:inherit\;font-size:inherit\;">27/04 &nd
 ash\; zaal Komedie van CC De Spil\,&nbsp\;<strong style="background-color:
 transparent\;color:inherit\;text-align:inherit\;text-transform:inherit\;wo
 rd-spacing:normal\;caret-color:auto\;white-space:inherit\;font-size:inheri
 t\;">Roeselare&nbsp\;</strong><span style="background-color:transparent\;c
 olor:inherit\;font-family:inherit\;text-align:inherit\;text-transform:inhe
 rit\;word-spacing:normal\;caret-color:auto\;white-space:inherit\;font-size
 :inherit\;">(Hippoliet Spilleboutdreef 1)&nbsp\;</span></span><strong styl
 e="background-color:transparent\;color:inherit\;text-align:inherit\;text-t
 ransform:inherit\;word-spacing:normal\;caret-color:auto\;white-space:inher
 it\;font-size:inherit\;">&nbsp\;</strong></li></ul></li><li><span style="b
 ackground-color:transparent\;color:inherit\;font-family:inherit\;text-alig
 n:inherit\;text-transform:inherit\;word-spacing:normal\;caret-color:auto\;
 white-space:inherit\;font-size:inherit\;">De infosessies zijn voorbehouden
  voor leden van ACV en/of Okra</span></li><li><span>De info richt zich op 
 pensioenen voor werknemers in de priv&eacute\;sector.</span></li><li><span
 >Individuele vragen kunnen de avond zelf niet beantwoord worden\, je zal w
 el je vraag kunnen registreren waarna iemand je achteraf zal contacteren.<
 /span></li><li><span>De toegang is gratis</span></li><li><span>Ingeval een
  infoavond volzet zou zijn\, kan je je inschrijven op een wachtlijst en no
 digen we je als eerste uit voor een volgende infoavond later dit jaar.</sp
 an></li></ul>
END:VEVENT
END:VCALENDAR
