BEGIN:VCALENDAR
VERSION:2.0
METHOD:PUBLISH
PRODID:-//Telerik Inc.//Sitefinity CMS 14.4//EN
BEGIN:VTIMEZONE
TZID:Romance Standard Time
BEGIN:STANDARD
DTSTART:20251002T030000
RRULE:FREQ=YEARLY;BYDAY=-1SU;BYHOUR=3;BYMINUTE=0;BYMONTH=10
TZNAME:Romance Standard Time
TZOFFSETFROM:+0200
TZOFFSETTO:+0100
END:STANDARD
BEGIN:DAYLIGHT
DTSTART:20250301T020000
RRULE:FREQ=YEARLY;BYDAY=-1SU;BYHOUR=2;BYMINUTE=0;BYMONTH=3
TZNAME:Romance Daylight Time
TZOFFSETFROM:+0100
TZOFFSETTO:+0200
END:DAYLIGHT
END:VTIMEZONE
BEGIN:VEVENT
DESCRIPTION:Opnieuw richting geven aan werk\, op jouw tempo.Langdurig ziek 
 (geweest)? Of leef je met een chronische aandoening en wil je (opnieuw) aa
 n het werk?&nbsp\;Dan weet je dat terugkeren niet gewoon 'de draad weer op
 ppikken' is. Soms vraagt het een nieuwe kijk. Een andere richting. Een res
 et.In het traject Route Reset nemen we de tijd om stil te staan bij waar j
 ij vandaag staat&nbsp\;- professioneel &eacute\;n persoonlijk. We onderzoe
 ken wie je bent in je werk\, wat bij je past\, waar je energie van krijgt 
 en waar je grenzen liggen. Van daaruit bouwen we stap voor stap aan een re
 alistisch en haalbaar plan.In een kleine groep ga je samen met anderen op 
 pad.We combineren inzichten\, praktische oefeningen en uitwisseling met me
 nsen die begrijpen wat je doormaakt.Waar? ACV\, H. Heymanplein 7 in Sint-N
 iklaasWanneer?- maandag 27 april- maandag 4 mei- maandag 18 mei- donderdag
  28 mei- donderdag 4 juniTelkens van 9.30 uur tot 16 uur.Je schrijft je in
  voor de volledige reeks.&nbsp\;Losse sessies volgen is niet mogelijk.Insc
 hrijven of meer info? natalie.dolceamore@acv-csc.beDit is een gratis traje
 ct dat enkel wordt aangeboden aan ACV-leden. Vermeld bij inschrijven je ri
 jksregisternummer of ACV-lidnummer.
DTEND:20260427T140000Z
DTSTAMP:20260421T113906Z
DTSTART:20260427T073000Z
LOCATION:Sint-Niklaas\,H. Heymanplein 7
SEQUENCE:0
SUMMARY:Route reset traject
UID:RFCALITEM639123755462622862
X-ALT-DESC;FMTTYPE=text/html:<p><strong>Opnieuw richting geven aan werk\, o
 p jouw tempo.<br /><br /></strong>Langdurig ziek (geweest)? Of leef je met
  een chronische aandoening en <strong>wil je (opnieuw) aan het werk?&nbsp\
 ;</strong>Dan weet je dat terugkeren niet gewoon 'de draad weer opppikken'
  is. Soms vraagt het een nieuwe kijk. Een andere richting. Een reset.<br /
 ><br />In het traject Route Reset nemen we de tijd om stil te staan bij <s
 trong>waar jij vandaag staat&nbsp\;</strong><strong>- </strong>professione
 el &eacute\;n persoonlijk. We onderzoeken wie je bent in je werk\, wat bij
  je past\, waar je energie van krijgt en waar je grenzen liggen. Van daaru
 it bouwen we stap voor stap aan<strong> een realistisch en haalbaar plan</
 strong>.<br /><br />In een kleine groep ga je samen met anderen op pad.<br
  />We combineren inzichten\, praktische oefeningen en uitwisseling met men
 sen die begrijpen wat je doormaakt.<br /><br /><strong>Waar?</strong> ACV\
 , H. Heymanplein 7 in Sint-Niklaas<br /><br /><strong>Wanneer?<br /><br />
 </strong>- maandag 27 april<br />- maandag 4 mei<br />- maandag 18 mei<br 
 />- donderdag 28 mei<br />- donderdag 4 juni<br /><br />Telkens van 9.30 u
 ur tot 16 uur.<br /><span style="background-color:initial\;font-family:inh
 erit\;font-size:inherit\;text-align:inherit\;text-transform:inherit\;word-
 spacing:normal\;caret-color:auto\;white-space:inherit\;">Je schrijft je in
  voor de volledige reeks.&nbsp\;</span><span style="background-color:initi
 al\;font-family:inherit\;font-size:inherit\;text-align:inherit\;text-trans
 form:inherit\;word-spacing:normal\;caret-color:auto\;white-space:inherit\;
 ">Losse sessies volgen is niet mogelijk.</span></p><p><strong>Inschrijven 
 of meer info? <a target="_blank" href="mailto:natalie.dolceamore@acv-csc.b
 e">natalie.dolceamore@acv-csc.be</a></strong><strong><br /></strong>Dit is
  een gratis traject dat enkel wordt aangeboden aan ACV-leden. <br />Vermel
 d bij inschrijven je rijksregisternummer of ACV-lidnummer.</p>
END:VEVENT
END:VCALENDAR
