BEGIN:VCALENDAR
VERSION:2.0
METHOD:PUBLISH
PRODID:-//Telerik Inc.//Sitefinity CMS 14.4//EN
BEGIN:VTIMEZONE
TZID:Romance Standard Time
BEGIN:STANDARD
DTSTART:20251002T030000
RRULE:FREQ=YEARLY;BYDAY=-1SU;BYHOUR=3;BYMINUTE=0;BYMONTH=10
TZNAME:Romance Standard Time
TZOFFSETFROM:+0200
TZOFFSETTO:+0100
END:STANDARD
BEGIN:DAYLIGHT
DTSTART:20250301T020000
RRULE:FREQ=YEARLY;BYDAY=-1SU;BYHOUR=2;BYMINUTE=0;BYMONTH=3
TZNAME:Romance Daylight Time
TZOFFSETFROM:+0100
TZOFFSETTO:+0200
END:DAYLIGHT
END:VTIMEZONE
BEGIN:VEVENT
DESCRIPTION:Ben je momenteel ziek\, maar nog steeds in dienst bij je huidig
 e werkgever? Wil je helderheid over jouw rechten\, plichten en mogelijkhed
 en? Schrijf je dan in voor onze gratis infosessie over Re-integratie 3.0 e
 n medische overmacht.Tijdens deze sessie krijg je:Een duidelijk overzicht 
 van de recentste wijzigingen in de wetgevingInzichten in hoe het re-integr
 atietraject praktisch verlooptUitleg over de mogelijke uitkomsten\, waaron
 der re-integratie op de werkvloerAntwoorden op veelgestelde vragen rond me
 dische overmachtOnze experts helpen je begrijpen welke stappen je kan zett
 en en welke ondersteuning mogelijk is. Zo kan je met de juiste kennis opni
 euw met vertrouwen vooruitkijken.Deze infosessie is volledig gratis\, maar
  inschrijven is verplicht.We kijken ernaar uit je te verwelkomen! Schrijf 
 je in via de groene balk hieronder.
DTEND:20260420T190000Z
DTSTAMP:20260421T113854Z
DTSTART:20260420T173000Z
LOCATION:3700 Tongeren-Borgloon\,Kerkhenis 10
SEQUENCE:0
SUMMARY:Infosessie: re-integratie 3.0 & medische overmacht
UID:RFCALITEM639123755345184602
X-ALT-DESC;FMTTYPE=text/html:<div><p>Ben je momenteel ziek\, maar nog steed
 s in dienst bij je huidige werkgever? Wil je helderheid over jouw rechten\
 , plichten en mogelijkheden? Schrijf je dan in voor onze <strong>gratis in
 fosessie over Re-integratie 3.0 en medische overmacht</strong>.</p><p>Tijd
 ens deze sessie krijg je:</p><ul><li>Een duidelijk overzicht van de <stron
 g>recentste wijzigingen in de wetgeving</strong></li><li>Inzichten in hoe 
 het <strong>re-integratietraject</strong> praktisch verloopt</li><li>Uitle
 g over de <strong>mogelijke uitkomsten</strong>\, waaronder re-integratie 
 op de werkvloer</li><li>Antwoorden op veelgestelde vragen rond <strong>med
 ische overmacht</strong></li></ul><p>Onze experts helpen je begrijpen welk
 e stappen je kan zetten en welke ondersteuning mogelijk is. Zo kan je met 
 de juiste kennis opnieuw met vertrouwen vooruitkijken.</p><p><strong>Deze 
 infosessie is volledig gratis\, maar inschrijven is verplicht.</strong></p
 ><p>We kijken ernaar uit je te verwelkomen! Schrijf je in via de groene ba
 lk hieronder.</p></div>
END:VEVENT
END:VCALENDAR
