BEGIN:VCALENDAR
VERSION:2.0
METHOD:PUBLISH
PRODID:-//Telerik Inc.//Sitefinity CMS 14.4//EN
BEGIN:VTIMEZONE
TZID:Romance Standard Time
BEGIN:STANDARD
DTSTART:20251002T030000
RRULE:FREQ=YEARLY;BYDAY=-1SU;BYHOUR=3;BYMINUTE=0;BYMONTH=10
TZNAME:Romance Standard Time
TZOFFSETFROM:+0200
TZOFFSETTO:+0100
END:STANDARD
BEGIN:DAYLIGHT
DTSTART:20250301T020000
RRULE:FREQ=YEARLY;BYDAY=-1SU;BYHOUR=2;BYMINUTE=0;BYMONTH=3
TZNAME:Romance Daylight Time
TZOFFSETFROM:+0100
TZOFFSETTO:+0200
END:DAYLIGHT
END:VTIMEZONE
BEGIN:VEVENT
DESCRIPTION:Weet je niet goed wat AI is? Maar ben je wel benieuwd naar wat 
 het kan betekenen voor jou? Wij tonen je&nbsp\; hoe AI werkt\, hoe het ons
  leven aangenamer kan maken en wat de risico's zijn. Stel jezelf gerust en
  ga er zelf mee aan de slag.We&nbsp\;tonen waar en hoe AI vandaag al gebru
 ikt wordt. We kijken ook vooruit\, naar de mogelijke toepassingen in de to
 ekomst. Er zijn natuurlijk ook ethische vragen bij te stellen\, die komen 
 zeker aan bod.&nbsp\;Woensdag 22 april &lsquo\;26 | 19.30 uur | zaal Bibli
 otheek| Tirse 1 | BrakelGratis deelname.Graag inschrijven bij Jens Van Heu
 verswijn.
DTEND:20260422T193000Z
DTSTAMP:20260421T113140Z
DTSTART:20260422T173000Z
LOCATION:Brakel\,Tirse 1
SEQUENCE:0
SUMMARY:Bang van artificiële intelligentie (AI)?
UID:RFCALITEM639123751009274486
X-ALT-DESC;FMTTYPE=text/html:<div>Weet je niet goed wat AI is? Maar ben je 
 wel benieuwd naar wat het kan betekenen voor jou? Wij tonen je&nbsp\; hoe 
 AI werkt\, hoe het ons leven aangenamer kan maken en wat de risico's zijn.
  Stel jezelf gerust en ga er zelf mee aan de slag.<br /><br />We<span styl
 e="background-color:initial\;font-family:inherit\;font-size:inherit\;text-
 align:inherit\;text-transform:inherit\;word-spacing:normal\;caret-color:au
 to\;white-space:inherit\;">&nbsp\;tonen waar en hoe AI vandaag al gebruikt
  wordt. We kijken ook vooruit\, naar de mogelijke toepassingen in de toeko
 mst. Er zijn natuurlijk ook ethische vragen bij te stellen\, die komen zek
 er aan bod.<br /></span><span style="background-color:initial\;font-family
 :inherit\;font-size:inherit\;text-align:inherit\;text-transform:inherit\;w
 ord-spacing:normal\;caret-color:auto\;white-space:inherit\;">&nbsp\;</span
 ><span style="background-color:initial\;font-family:inherit\;font-size:inh
 erit\;text-align:inherit\;text-transform:inherit\;word-spacing:normal\;car
 et-color:auto\;white-space:inherit\;"></span></div><div>Woensdag 22 april 
 &lsquo\;26 | 19.30 uur | zaal Bibliotheek| Tirse 1 | Brakel<br />Gratis de
 elname.<br /><br />Graag inschrijven bij <a target="_blank" href="mailto:j
 ens.vanheuverswijn@acv-csc.be">Jens Van Heuverswijn</a>.</div>
END:VEVENT
END:VCALENDAR
